BEGIN:VCALENDAR
VERSION:2.0
PRODID:-//eventon.com NONSGML v1.0//EN
CALSCALE:GREGORIAN
METHOD:PUBLISH
BEGIN:VEVENT
UID:69e9d4d2bd09e
DTSTAMP:20260423T081410Z
DTSTART:20211113T140000Z
DTEND:20211113T180000Z
LOCATION:
SUMMARY:Free Flu Shots
DESCRIPTION:For Uninsured Adults &#8211; Registration required https://www.
 signupgenius.com/go/10c0f4eabae2fa3fec70-norcross\nhttps://www.ourncm.org/e
 vents/free-flu-shots/
URL:https://www.ourncm.org/events/free-flu-shots/
END:VEVENT
END:VCALENDAR