BEGIN:VCALENDAR
VERSION:2.0
PRODID:-//eventon.com NONSGML v1.0//EN
CALSCALE:GREGORIAN
METHOD:PUBLISH
BEGIN:VEVENT
UID:69eb202c311fd
DTSTAMP:20260424T074756Z
DTSTART:20210812T230000Z
DTEND:20210813T000000Z
LOCATION:
SUMMARY:Virtual Money Management Class -7pm
DESCRIPTION:Guide to Frugal Living Living frugally can help consumers achie
 ve their goals faster by making smarter financial choices. This workshop te
 aches participants how to cut back their spending\,  become a savvy shopper
 \,  and do more with less. Registration Required. https://attendee.gotowebi
 nar.com/register/6384987584326698256\nhttps://www.ourncm.org/events/virtual
 -money-management-class-7pm/
URL:https://www.ourncm.org/events/virtual-money-management-class-7pm/
END:VEVENT
END:VCALENDAR