BEGIN:VCALENDAR
VERSION:2.0
PRODID:-//eventon.com NONSGML v1.0//EN
CALSCALE:GREGORIAN
METHOD:PUBLISH
BEGIN:VEVENT
UID:69eb2035891f7
DTSTAMP:20260424T074805Z
DTSTART:20210629T140000Z
DTEND:20210629T160000Z
LOCATION:
SUMMARY:Express Pro Drive Thru Hiring Event
DESCRIPTION:~ JOIN US ~Tuesday\,  June 29\,  202110am to 12pmNeighborhood C
 ooperative Ministries500 Pinnacle Court\,  Suite 510Norcross\,  Georgia 300
 71 Be sure to:Apply online in advance:www.expresspros.com/atlantaganeLocati
 on code: Atlanta NE This is a drive-thru event &gt; masks advisedQuestions?
  Call Leslie @ 770-263-8268 or send email to: jobministry@ourncm.org Share 
 this event with anyone looking for[..]\nhttps://www.ourncm.org/events/expre
 ss-pro-drive-thru-hiring-event-6/
URL:https://www.ourncm.org/events/express-pro-drive-thru-hiring-event-6/
END:VEVENT
END:VCALENDAR