BEGIN:VCALENDAR
VERSION:2.0
PRODID:-//eventon.com NONSGML v1.0//EN
CALSCALE:GREGORIAN
METHOD:PUBLISH
BEGIN:VEVENT
UID:69e9d4a0e308e
DTSTAMP:20260423T081320Z
DTSTART:20210223T150000Z
DTEND:20210223T170000Z
LOCATION:
SUMMARY:Express Pro Drive Thru Hiring Event
DESCRIPTION:~ JOIN US ~Tuesday\,  February 23rd\,  202110am to 12pmNeighbor
 hood Cooperative Ministries500 Pinnacle Court\,  Suite 510Norcross\,  Georg
 ia 30071 Interviewing now:See attached JOB LIST for hiring in FebruaryBe su
 re to:Apply online in advance:www.expresspros.com/atlantaganeLocation code:
  Atlanta NE This is a drive-thru event &gt; masks advisedNote: Every applic
 ant is eligible to receive a gift[..]\nhttps://www.ourncm.org/events/expres
 s-pro-drive-thru-hiring-event/
URL:https://www.ourncm.org/events/express-pro-drive-thru-hiring-event/
END:VEVENT
END:VCALENDAR